BEGIN:VCALENDAR
VERSION:2.0
PRODID:-//Kirchenmusik der Evangelischen Kirche - ECPv6.15.11//NONSGML v1.0//EN
CALSCALE:GREGORIAN
METHOD:PUBLISH
X-ORIGINAL-URL:https://www.kirchenmusik-evangelisch.at
X-WR-CALDESC:Veranstaltungen für Kirchenmusik der Evangelischen Kirche
REFRESH-INTERVAL;VALUE=DURATION:PT1H
X-Robots-Tag:noindex
X-PUBLISHED-TTL:PT1H
BEGIN:VTIMEZONE
TZID:Europe/Vienna
BEGIN:DAYLIGHT
TZOFFSETFROM:+0100
TZOFFSETTO:+0200
TZNAME:CEST
DTSTART:20240331T010000
END:DAYLIGHT
BEGIN:STANDARD
TZOFFSETFROM:+0200
TZOFFSETTO:+0100
TZNAME:CET
DTSTART:20241027T010000
END:STANDARD
BEGIN:DAYLIGHT
TZOFFSETFROM:+0100
TZOFFSETTO:+0200
TZNAME:CEST
DTSTART:20250330T010000
END:DAYLIGHT
BEGIN:STANDARD
TZOFFSETFROM:+0200
TZOFFSETTO:+0100
TZNAME:CET
DTSTART:20251026T010000
END:STANDARD
BEGIN:DAYLIGHT
TZOFFSETFROM:+0100
TZOFFSETTO:+0200
TZNAME:CEST
DTSTART:20260329T010000
END:DAYLIGHT
BEGIN:STANDARD
TZOFFSETFROM:+0200
TZOFFSETTO:+0100
TZNAME:CET
DTSTART:20261025T010000
END:STANDARD
END:VTIMEZONE
BEGIN:VEVENT
DTSTART;TZID=Europe/Vienna:20250525T110000
DTEND;TZID=Europe/Vienna:20250525T130000
DTSTAMP:20260422T163041
CREATED:20250513T103337Z
LAST-MODIFIED:20250513T103337Z
UID:1438-1748170800-1748178000@www.kirchenmusik-evangelisch.at
SUMMARY:Matinee zum „Jahr der Kirchenmusik“
DESCRIPTION:„Wer sich die Musik erkiest [erwählt]…“ (Martin Luther) \nMatinee zum „Jahr der Kirchenmusik“ \n  \nWerke von Palestrina\, Crüger u. a. \nMitwirkende: Kirchenchor Großau\, Ökumenischer Chor Bad Vöslau\, Solist: Erwin Holub\, Streicher\, Orgel \n  \nSonntag\, 25. Mai 2025\, 11 Uhr \nEvang. Kirche Bad Vöslau\, Raulestr. 5 \nEintritt frei – Spenden erbeten
URL:https://www.kirchenmusik-evangelisch.at/event/matinee-zum-jahr-der-kirchenmusik-3/
LOCATION:Evang. Kirche Bad Vöslau\, Raulestr. 5\, Bad Vöslau\, Niederösterreich\, 2540\, Austria
CATEGORIES:Konzert
END:VEVENT
END:VCALENDAR